BEGIN:VCALENDAR
VERSION:2.0
PRODID:-//ChamberMaster//Event Calendar 2.0//EN
METHOD:PUBLISH
X-PUBLISHED-TTL:P3D
REFRESH-INTERVAL:P3D
CALSCALE:GREGORIAN
BEGIN:VEVENT
DTSTART:20200229T013000Z
DTEND:20200229T013000Z
X-MICROSOFT-CDO-ALLDAYEVENT:FALSE
SUMMARY:Yoga Class and Social Hour
DESCRIPTION:Yoga to ROCK MUSIC!! with Mandy Flannery. $25 or class pass. After class\, stay for the snacks and drinks! Creating friendships and community. \n\n(Mention Chamber of Batavia for $5 off your price!)
X-ALT-DESC;FMTTYPE=text/html:<p>Yoga to ROCK MUSIC!! with Mandy Flannery. $25 or class pass. After class\, stay for the snacks and drinks! Creating friendships and community.&nbsp\;</p>\n\n<p>(Mention Chamber of Batavia for $5 off your price!)&nbsp\;</p>\n
LOCATION:7 N RIVER ST BATAVIA
UID:e.1902.12083
SEQUENCE:3
DTSTAMP:20260422T232812Z
URL:https://business.bataviachamber.org/events/details/yoga-class-and-social-hour-12083
END:VEVENT

END:VCALENDAR
