BEGIN:VCALENDAR
VERSION:2.0
PRODID:-//ChamberMaster//Event Calendar 2.0//EN
METHOD:PUBLISH
X-PUBLISHED-TTL:P3D
REFRESH-INTERVAL:P3D
CALSCALE:GREGORIAN
BEGIN:VEVENT
DTSTART:20100213T060000Z
DTEND:20100213T060000Z
X-MICROSOFT-CDO-ALLDAYEVENT:FALSE
SUMMARY:www.waterstreetstudios.com
DESCRIPTION:Come and feel the love at Water Street Studios.  Art from the Heart will offer workshops to make Valentine's Day gifts for the ones you love\, music to please your ears\, and chocolate to entice your palette.  Make Valentine's Day 2010 the best ever for you and your loved ones.  Immerse yourself in the mood of the season.
X-ALT-DESC;FMTTYPE=text/html:Come and feel the love at Water Street Studios.  Art from the Heart will offer workshops to make Valentine's Day gifts for the ones you love\, music to please your ears\, and chocolate to entice your palette.  Make Valentine's Day 2010 the best ever for you and your loved ones.  Immerse yourself in the mood of the season.
LOCATION:Water Street Studios
UID:e.1902.1098
SEQUENCE:3
DTSTAMP:20260420T175109Z
URL:https://business.bataviachamber.org/events/details/www-waterstreetstudios-com-02-13-2010-1098
END:VEVENT

END:VCALENDAR
