BEGIN:VCALENDAR
VERSION:2.0
PRODID:-//ChamberMaster//Event Calendar 2.0//EN
METHOD:PUBLISH
X-PUBLISHED-TTL:P3D
REFRESH-INTERVAL:P3D
CALSCALE:GREGORIAN
BEGIN:VEVENT
DTSTART:20120203T060000Z
DTEND:20120203T060000Z
X-MICROSOFT-CDO-ALLDAYEVENT:FALSE
SUMMARY:WSS Friday Night Performance
DESCRIPTION:Our next free music event will feature folk/acoustic artists Jim and Jen together with Dave Ramont.
X-ALT-DESC;FMTTYPE=text/html:Our next free music event will feature folk/acoustic artists Jim and Jen together with Dave Ramont.
LOCATION:Water Street Studios
UID:e.1902.510
SEQUENCE:3
DTSTAMP:20260422T204747Z
URL:https://business.bataviachamber.org/events/details/wss-friday-night-performance-02-03-2012-510
END:VEVENT

END:VCALENDAR
