BEGIN:VCALENDAR
VERSION:2.0
PRODID:-//ChamberMaster//Event Calendar 2.0//EN
METHOD:PUBLISH
X-PUBLISHED-TTL:P3D
REFRESH-INTERVAL:P3D
CALSCALE:GREGORIAN
BEGIN:VEVENT
DTSTART:20120113T060000Z
DTEND:20120113T060000Z
X-MICROSOFT-CDO-ALLDAYEVENT:FALSE
SUMMARY:WSS Friday Night Performance
DESCRIPTION:Caught In Your Pockets are celebrating the release of their new CD\, Lose Your Cool. Joining them will be Beautiful Collision and Hungry Mtn. You can sample some of the music from these bands via our website.
X-ALT-DESC;FMTTYPE=text/html:Caught In Your Pockets are celebrating the release of their new CD\, Lose Your Cool. Joining them will be Beautiful Collision and Hungry Mtn. You can sample some of the music from these bands via our website.
LOCATION:Water Street Studios
UID:e.1902.471
SEQUENCE:3
DTSTAMP:20260422T223317Z
URL:https://business.bataviachamber.org/events/details/wss-friday-night-performance-01-13-2012-471
END:VEVENT

END:VCALENDAR
