BEGIN:VCALENDAR
VERSION:2.0
PRODID:-//ChamberMaster//Event Calendar 2.0//EN
METHOD:PUBLISH
X-PUBLISHED-TTL:P3D
REFRESH-INTERVAL:P3D
CALSCALE:GREGORIAN
BEGIN:VEVENT
DTSTART:20081112T173000Z
DTEND:20081112T193000Z
X-MICROSOFT-CDO-ALLDAYEVENT:FALSE
SUMMARY:WSCCE lunch - November 12\, 2008
DESCRIPTION:
X-ALT-DESC;FMTTYPE=text/html:
LOCATION:Funway
UID:e.1902.1867
SEQUENCE:3
DTSTAMP:20260425T153832Z
URL:https://business.bataviachamber.org/events/details/wscce-lunch-november-12-2008-11-12-2008-1867
END:VEVENT

END:VCALENDAR
