BEGIN:VCALENDAR
VERSION:2.0
PRODID:-//ChamberMaster//Event Calendar 2.0//EN
METHOD:PUBLISH
X-PUBLISHED-TTL:P3D
REFRESH-INTERVAL:P3D
CALSCALE:GREGORIAN
BEGIN:VEVENT
DTSTART:20210602T163000Z
DTEND:20210602T180000Z
X-MICROSOFT-CDO-ALLDAYEVENT:FALSE
SUMMARY:WSCCE Lunch-Batavia
DESCRIPTION:Monthly West Suburban Chamber of Commerce Executives Lunch hosted by Batavia Chamber.
X-ALT-DESC;FMTTYPE=text/html:<div align="left">Monthly West Suburban Chamber of Commerce Executives Lunch hosted by&nbsp\;Batavia Chamber.</div>\n\n<div align="left">&nbsp\;</div>\n
LOCATION:Oak + Swine 107 E. Wilson Street Batavia\, IL 60510 oakandswine.com
UID:e.1902.13421
SEQUENCE:3
DTSTAMP:20260421T105040Z
URL:https://business.bataviachamber.org/events/details/wscce-lunch-batavia-13421
END:VEVENT

END:VCALENDAR
