BEGIN:VCALENDAR
VERSION:2.0
PRODID:-//ChamberMaster//Event Calendar 2.0//EN
METHOD:PUBLISH
X-PUBLISHED-TTL:P3D
REFRESH-INTERVAL:P3D
CALSCALE:GREGORIAN
BEGIN:VEVENT
DTSTART:20091127T060000Z
DTEND:20091206T060000Z
X-MICROSOFT-CDO-ALLDAYEVENT:FALSE
SUMMARY:Wreath and Roping Sale
DESCRIPTION:Following a more than 10-year tradition\, Calvary Episcopal Church once again offers affordable\, high-quality\, locally-grown Christmas wreaths and roping for sale this holiday season.  The sale takes place Friday through Sunday\, November 27-29\, and Saturday and Sunday\, December 5 and 6. Shop early toavoid disappointment!  Proceeds benefit the outreach ministries of the parish\, including many localagencies.
X-ALT-DESC;FMTTYPE=text/html:Following a more than 10-year tradition\, Calvary Episcopal Church once again offers affordable\, high-quality\, locally-grown Christmas wreaths and roping for sale this holiday season.  The sale takes place Friday through Sunday\, November 27-29\, and Saturday and Sunday\, December 5 and 6. Shop early toavoid disappointment!  Proceeds benefit the outreach ministries of the parish\, including many localagencies.
LOCATION:Calvary Episcopal Church
UID:e.1902.1069
SEQUENCE:3
DTSTAMP:20260420T213056Z
URL:https://business.bataviachamber.org/events/details/wreath-and-roping-sale-11-27-2009-1069
END:VEVENT

END:VCALENDAR
