BEGIN:VCALENDAR
VERSION:2.0
PRODID:-//ChamberMaster//Event Calendar 2.0//EN
METHOD:PUBLISH
X-PUBLISHED-TTL:P3D
REFRESH-INTERVAL:P3D
CALSCALE:GREGORIAN
BEGIN:VEVENT
DTSTART:20090918T050000Z
DTEND:20090918T050000Z
X-MICROSOFT-CDO-ALLDAYEVENT:FALSE
SUMMARY:Working for the Fox Valley Job Fair 2009
DESCRIPTION:A collaborative partnership of First Transitions of Oak Brook\, and Partners of the Illinois workNetCenter\, Illinois Department fo Employment Security\, Kane County Department of Employment and Educations and Waubonsee Community College.
X-ALT-DESC;FMTTYPE=text/html:A collaborative partnership of First Transitions of Oak Brook\, and Partners of the Illinois workNetCenter\, Illinois Department fo Employment Security\, Kane County Department of Employment and Educations and Waubonsee Community College.
LOCATION:Waubonsee Community College APC
UID:e.1902.983
SEQUENCE:3
DTSTAMP:20260421T025900Z
URL:https://business.bataviachamber.org/events/details/working-for-the-fox-valley-job-fair-2009-09-18-2009-983
END:VEVENT

END:VCALENDAR
