BEGIN:VCALENDAR
VERSION:2.0
PRODID:-//ChamberMaster//Event Calendar 2.0//EN
METHOD:PUBLISH
X-PUBLISHED-TTL:P3D
REFRESH-INTERVAL:P3D
CALSCALE:GREGORIAN
BEGIN:VEVENT
DTSTART:20090430T050000Z
DTEND:20090430T050000Z
X-MICROSOFT-CDO-ALLDAYEVENT:FALSE
SUMMARY:Workers' Compensations in Today's Economy A Seminar Series
DESCRIPTION:
X-ALT-DESC;FMTTYPE=text/html:
LOCATION:Dreyer Medical Clinic - West Downer Place
UID:e.1902.829
SEQUENCE:3
DTSTAMP:20260421T125821Z
URL:https://business.bataviachamber.org/events/details/workers-compensations-in-today-s-economy-a-seminar-series-04-30-2009-829
END:VEVENT

END:VCALENDAR
