BEGIN:VCALENDAR
VERSION:2.0
PRODID:-//ChamberMaster//Event Calendar 2.0//EN
METHOD:PUBLISH
X-PUBLISHED-TTL:P3D
REFRESH-INTERVAL:P3D
CALSCALE:GREGORIAN
BEGIN:VEVENT
DTSTART:20090331T050000Z
DTEND:20090331T050000Z
X-MICROSOFT-CDO-ALLDAYEVENT:FALSE
SUMMARY:Workers' Compensation in Today's Economy A semnar Series
DESCRIPTION:Reviewing proper claim investigation techniques\, claim reporting procedures that should be in place\,how claims should be handled internally from inception to resolution.  The value to using Occupational Health care providers.  Experience Modifier\, how it s calculated and how it impacts the overallpremiums for your customers.
X-ALT-DESC;FMTTYPE=text/html:Reviewing proper claim investigation techniques\, claim reporting procedures that should be in place\,how claims should be handled internally from inception to resolution.  The value to using Occupational Health care providers.  Experience Modifier\, how it s calculated and how it impacts the overallpremiums for your customers.
LOCATION:Dreyer Medical Clinic - West Downer Place
UID:e.1902.828
SEQUENCE:3
DTSTAMP:20260421T144051Z
URL:https://business.bataviachamber.org/events/details/workers-compensation-in-today-s-economy-a-semnar-series-03-31-2009-828
END:VEVENT

END:VCALENDAR
