BEGIN:VCALENDAR
VERSION:2.0
PRODID:-//ChamberMaster//Event Calendar 2.0//EN
METHOD:PUBLISH
X-PUBLISHED-TTL:P3D
REFRESH-INTERVAL:P3D
CALSCALE:GREGORIAN
BEGIN:VEVENT
DTSTART:20090227T060000Z
DTEND:20090227T060000Z
X-MICROSOFT-CDO-ALLDAYEVENT:FALSE
SUMMARY:Workers' Compensation in Today's Economy A seminar Series
DESCRIPTION:The presentation will explain what laws are in place that drive how workers' compensation claims arehandled\, as well as how such laws are fashioned in Illinois.  We will also discuss ways businessescan reduce their expenses and workers' compensation premiums.
X-ALT-DESC;FMTTYPE=text/html:The presentation will explain what laws are in place that drive how workers' compensation claims arehandled\, as well as how such laws are fashioned in Illinois.  We will also discuss ways businessescan reduce their expenses and workers' compensation premiums.
LOCATION:Dreyer Medical Clinic - West Downer Place
UID:e.1902.827
SEQUENCE:3
DTSTAMP:20260421T162842Z
URL:https://business.bataviachamber.org/events/details/workers-compensation-in-today-s-economy-a-seminar-series-02-27-2009-827
END:VEVENT

END:VCALENDAR
