BEGIN:VCALENDAR
VERSION:2.0
PRODID:-//ChamberMaster//Event Calendar 2.0//EN
METHOD:PUBLISH
X-PUBLISHED-TTL:P3D
REFRESH-INTERVAL:P3D
CALSCALE:GREGORIAN
BEGIN:VEVENT
DTSTART:20100213T060000Z
DTEND:20100213T060000Z
X-MICROSOFT-CDO-ALLDAYEVENT:FALSE
SUMMARY:Winter Community ''Open House''
DESCRIPTION:Come experience the Kiddie Academy difference!  Enjoy and afternoon of fun with activities for the children with local vendors from the community bringing knowledge and resources to you.   Tour the fire truck and have your car seat inspected for proper installation.
X-ALT-DESC;FMTTYPE=text/html:Come experience the Kiddie Academy difference!  Enjoy and afternoon of fun with activities for the children with local vendors from the community bringing knowledge and resources to you.   Tour the fire truck and have your car seat inspected for proper installation.
LOCATION:Kiddie Academy
UID:e.1902.1112
SEQUENCE:3
DTSTAMP:20260420T175336Z
URL:https://business.bataviachamber.org/events/details/winter-community-open-house-02-13-2010-1112
END:VEVENT

END:VCALENDAR
