BEGIN:VCALENDAR
VERSION:2.0
PRODID:-//ChamberMaster//Event Calendar 2.0//EN
METHOD:PUBLISH
X-PUBLISHED-TTL:P3D
REFRESH-INTERVAL:P3D
CALSCALE:GREGORIAN
BEGIN:VEVENT
DTSTART:20081107T000000Z
DTEND:20081107T020000Z
X-MICROSOFT-CDO-ALLDAYEVENT:FALSE
SUMMARY:Wine & Wish Lists at K.Hollis Jewelers
DESCRIPTION:Girls Night Out! Come in\, sip some fantastic wine from Gibby's Wine Den and start or update your wish list just in time for Christmas - Your family will thank you for the help!
X-ALT-DESC;FMTTYPE=text/html:<DIV align=center><STRONG><FONT color=#ff0000>Girls Night Out!</FONT></STRONG></DIV><DIV align=left>&nbsp\;</DIV><DIV align=left>Come in\, sip some fantastic wine from <FONT color=#ff0000><STRONG>Gibby's Wine Den</STRONG></FONT> and start or update your wish list just in time for Christmas - Your family will thank you for the help!</DIV>
LOCATION:K. Hollis Jewelers
UID:e.1902.1604
SEQUENCE:3
DTSTAMP:20260421T212353Z
URL:https://business.bataviachamber.org/events/details/wine-wish-lists-at-k-hollis-jewelers-11-06-2008-1604
END:VEVENT

END:VCALENDAR
