BEGIN:VCALENDAR
VERSION:2.0
PRODID:-//ChamberMaster//Event Calendar 2.0//EN
METHOD:PUBLISH
X-PUBLISHED-TTL:P3D
REFRESH-INTERVAL:P3D
CALSCALE:GREGORIAN
BEGIN:VEVENT
DTSTART:20090416T050000Z
DTEND:20090416T050000Z
X-MICROSOFT-CDO-ALLDAYEVENT:FALSE
SUMMARY:Wine\, Food\, Delight\, Delish!
DESCRIPTION:Join Matt and Kim from Moveable Feast and Randy from Gibby's for a casual evening filled with amazing food and unforgettable wines. We'll be serving 6 savory dishes from Movealbe Feast's spring and summer menus\, each paired with a wine specially selected by Randy. Kim\, Matt and Randy will be mingling with the crowd to discuss food and wine pairing philosophy\, the local food scene and other topicsof interest. A great alternative to the same old "dinner out"\, we hope you'll join us for this fun\,educational and entertaining evening of eating\, drinking and merriment. $55 per person\, reservationsrequired.
X-ALT-DESC;FMTTYPE=text/html:Join Matt and Kim from Moveable Feast and Randy from Gibby's for a casual evening filled with amazing food and unforgettable wines. We'll be serving 6 savory dishes from Movealbe Feast's spring and summer menus\, each paired with a wine specially selected by Randy. Kim\, Matt and Randy will be mingling with the crowd to discuss food and wine pairing philosophy\, the local food scene and other topicsof interest. A great alternative to the same old "dinner out"\, we hope you'll join us for this fun\,educational and entertaining evening of eating\, drinking and merriment. $55 per person\, reservationsrequired.
LOCATION:Gibby's Wine Den
UID:e.1902.912
SEQUENCE:3
DTSTAMP:20260421T130900Z
URL:https://business.bataviachamber.org/events/details/wine-food-delight-delish-04-16-2009-912
END:VEVENT

END:VCALENDAR
