BEGIN:VCALENDAR
VERSION:2.0
PRODID:-//ChamberMaster//Event Calendar 2.0//EN
METHOD:PUBLISH
X-PUBLISHED-TTL:P3D
REFRESH-INTERVAL:P3D
CALSCALE:GREGORIAN
BEGIN:VEVENT
DTSTART:20110713T050000Z
DTEND:20110713T050000Z
X-MICROSOFT-CDO-ALLDAYEVENT:FALSE
SUMMARY:Wine Bar Wednesday
DESCRIPTION:Stop in on Wednesdays for a glass of wine at our Wine Bar and enjoy a selection from our Tidbits menu. Receive double credit for all Bar purchases toward CorkHead Bucks.
X-ALT-DESC;FMTTYPE=text/html:Stop in on Wednesdays for a glass of wine at our Wine Bar and enjoy a selection from our Tidbits menu. Receive double credit for all Bar purchases toward CorkHead Bucks.
LOCATION:Gibby's Wine Den
UID:e.1902.286
SEQUENCE:3
DTSTAMP:20260419T145350Z
URL:https://business.bataviachamber.org/events/details/wine-bar-wednesday-07-13-2011-286
END:VEVENT

END:VCALENDAR
