BEGIN:VCALENDAR
VERSION:2.0
PRODID:-//ChamberMaster//Event Calendar 2.0//EN
METHOD:PUBLISH
X-PUBLISHED-TTL:P3D
REFRESH-INTERVAL:P3D
CALSCALE:GREGORIAN
BEGIN:VEVENT
DTSTART:20090917T050000Z
DTEND:20090917T050000Z
X-MICROSOFT-CDO-ALLDAYEVENT:FALSE
SUMMARY:Wine and Wellness Night
DESCRIPTION:Join Gibby's Wine Den and Juice Plus for an evening of education\, wine tasting\, specials and good company. Jan Gibson of Gibby's Wine Den will discuss health benefits of wine at 5:30 and 6:30. Jan Seiffert of Juice Plus will discuss the benefits of getting enough fruits and vegetables at 6:00 and 7:00.
X-ALT-DESC;FMTTYPE=text/html:Join Gibby's Wine Den and Juice Plus for an evening of education\, wine tasting\, specials and good company. Jan Gibson of Gibby's Wine Den will discuss health benefits of wine at 5:30 and 6:30. Jan Seiffert of Juice Plus will discuss the benefits of getting enough fruits and vegetables at 6:00 and 7:00.
LOCATION:K.Hollis Jewelers
UID:e.1902.992
SEQUENCE:3
DTSTAMP:20260421T030612Z
URL:https://business.bataviachamber.org/events/details/wine-and-wellness-night-09-17-2009-992
END:VEVENT

END:VCALENDAR
