BEGIN:VCALENDAR
VERSION:2.0
PRODID:-//ChamberMaster//Event Calendar 2.0//EN
METHOD:PUBLISH
X-PUBLISHED-TTL:P3D
REFRESH-INTERVAL:P3D
CALSCALE:GREGORIAN
BEGIN:VEVENT
DTSTART:20180714T150000Z
DTEND:20180714T153000Z
X-MICROSOFT-CDO-ALLDAYEVENT:FALSE
SUMMARY:Windmill City Festival Pet Parade
DESCRIPTION:Invite your furry or not-so-furry friend to this unique parade! The first 50 registered participants will receive a complimentary "doggie bag" to take home. Interested participants must register near the Main Stage from 9:15   9:50 am. Pets can win 'best overall' in five categories: Best Kisser\, Best Trick\, Highest Jump\, Best Costume\, and Most Unusual. Sponsored by Batavia Animal Clinic
X-ALT-DESC;FMTTYPE=text/html:<span style="font-family:arial narrow\,sans-serif"><span style="font-size:10.0pt">Invite your furry</span> or not-so-furry</span> friend to this unique parade! The first 50 registered participants will receive a complimentary &ldquo\;doggie bag&rdquo\; to take home. Interested participants must register near the Main Stage from 9:15 &ndash\; 9:50 am. Pets can win &lsquo\;best overall&rsquo\; in five categories: Best Kisser\, Best Trick\, Highest Jump\, Best Costume\, and Most Unusual. <em>Sponsored by Batavia Animal Clinic</em>
LOCATION:Batavia Riverwalk
UID:e.1902.7906
SEQUENCE:3
DTSTAMP:20260424T114511Z
URL:https://business.bataviachamber.org/events/details/windmill-city-festival-pet-parade-7906
END:VEVENT

END:VCALENDAR
