BEGIN:VCALENDAR
VERSION:2.0
PRODID:-//ChamberMaster//Event Calendar 2.0//EN
METHOD:PUBLISH
X-PUBLISHED-TTL:P3D
REFRESH-INTERVAL:P3D
CALSCALE:GREGORIAN
BEGIN:VEVENT
DTSTART;VALUE=DATE:20100709
DTEND;VALUE=DATE:20100712
TRANSP:TRANSPARENT
X-MICROSOFT-CDO-ALLDAYEVENT:TRUE
SUMMARY:Windmill City Festival 2010
DESCRIPTION:Bring the family out for a flurry of activities\, outdoor games and main stage entertainment! Other events include a carnival\, 5K run\, kids` run\, pet parade\, craft show/flea market and more!
X-ALT-DESC;FMTTYPE=text/html:<SPAN class=Apple-style-span style="WORD-SPACING: 0px\; FONT: medium 'Times New Roman'\; TEXT-TRANSFORM: none\; COLOR: rgb(0\,0\,0)\; TEXT-INDENT: 0px\; WHITE-SPACE: normal\; LETTER-SPACING: normal\; BORDER-COLLAPSE: separate\; orphans: 2\; widows: 2\; -webkit-border-horizontal-spacing: 0px\; -webkit-border-vertical-spacing: 0px\; -webkit-text-decorations-in-effect: none\; -webkit-text-size-adjust: auto\; -webkit-text-stroke-width: 0px"><SPAN class=Apple-style-span style="FONT-SIZE: 14px\; LINE-HEIGHT: 18px\; FONT-FAMILY: Arial\, Helvetica\, sans-serif">Bring the family out for a flurry of activities\, outdoor games and main stage entertainment!&nbsp\;Other events include a carnival\, 5K run\, kids` run\,&nbsp\;pet parade\, craft show/flea market and more!</SPAN></SPAN>
LOCATION:Batavia's Beautiful Riverwalk
UID:e.1902.1863
SEQUENCE:3
DTSTAMP:20260420T094902Z
URL:https://business.bataviachamber.org/events/details/windmill-city-festival-2010-07-09-2010-1863
END:VEVENT

END:VCALENDAR
