BEGIN:VCALENDAR
VERSION:2.0
PRODID:-//ChamberMaster//Event Calendar 2.0//EN
METHOD:PUBLISH
X-PUBLISHED-TTL:P3D
REFRESH-INTERVAL:P3D
CALSCALE:GREGORIAN
BEGIN:VEVENT
DTSTART;VALUE=DATE:20080710
DTEND;VALUE=DATE:20080713
TRANSP:TRANSPARENT
X-MICROSOFT-CDO-ALLDAYEVENT:TRUE
SUMMARY:Windmill City Festival 2008
DESCRIPTION:Join us for Batavia's annual festival with fun and entertainment for all ages.
X-ALT-DESC;FMTTYPE=text/html:Join us for Batavia's annual festival with fun and entertainment for all ages.
LOCATION:Batavia's Beautiful Riverwalk
UID:e.1902.1862
SEQUENCE:3
DTSTAMP:20260422T042359Z
URL:https://business.bataviachamber.org/events/details/windmill-city-festival-2008-07-10-2008-1862
END:VEVENT

END:VCALENDAR
