BEGIN:VCALENDAR
VERSION:2.0
PRODID:-//ChamberMaster//Event Calendar 2.0//EN
METHOD:PUBLISH
X-PUBLISHED-TTL:P3D
REFRESH-INTERVAL:P3D
CALSCALE:GREGORIAN
BEGIN:VEVENT
DTSTART:20090710T050000Z
DTEND:20090712T050000Z
X-MICROSOFT-CDO-ALLDAYEVENT:FALSE
SUMMARY:Windmill City Festival
DESCRIPTION:New this year - the festival will run Friday-Sunday providing more opportunities for the whole family to experience the fun of Windmill City Festival! Other events include a carnival\, 5K run\, kids` run\, water games\, Quilt Show\, pet parade\, arts and crafts fair\, beer garden and nightly entertainmenton the main stage!
X-ALT-DESC;FMTTYPE=text/html:New this year - the festival will run Friday-Sunday providing more opportunities for the whole family to experience the fun of Windmill City Festival! Other events include a carnival\, 5K run\, kids` run\, water games\, Quilt Show\, pet parade\, arts and crafts fair\, beer garden and nightly entertainmenton the main stage!
LOCATION:Batavia Riverwalk
UID:e.1902.823
SEQUENCE:3
DTSTAMP:20260425T022146Z
URL:https://business.bataviachamber.org/events/details/windmill-city-festival-07-10-2009-823
END:VEVENT

END:VCALENDAR
