BEGIN:VCALENDAR
VERSION:2.0
PRODID:-//ChamberMaster//Event Calendar 2.0//EN
METHOD:PUBLISH
X-PUBLISHED-TTL:P3D
REFRESH-INTERVAL:P3D
CALSCALE:GREGORIAN
BEGIN:VEVENT
DTSTART:20091205T060000Z
DTEND:20091205T060000Z
X-MICROSOFT-CDO-ALLDAYEVENT:FALSE
SUMMARY:Water Street Wonderland Holiday Showcase Event 2009
DESCRIPTION:Make Water Street Studios your holiday shopping destination this year.  Our unique assortment of creative items will make it easy for you to select perfect gifts for friends or family.  Local artistswill be featuring handcrafted items for gift buying on any budget.  Water Street Wonderland is the ideal place to find hand printed holiday cards\, blown glass ornaments\, prints\, jewelry\, paintings andmuch more.  The highlight of this show is the Water Street Wonderland Show case event featuring holiday workshops\, music\, cookies and the opportunity to have a professional holiday portrait taken.
X-ALT-DESC;FMTTYPE=text/html:Make Water Street Studios your holiday shopping destination this year.  Our unique assortment of creative items will make it easy for you to select perfect gifts for friends or family.  Local artistswill be featuring handcrafted items for gift buying on any budget.  Water Street Wonderland is the ideal place to find hand printed holiday cards\, blown glass ornaments\, prints\, jewelry\, paintings andmuch more.  The highlight of this show is the Water Street Wonderland Show case event featuring holiday workshops\, music\, cookies and the opportunity to have a professional holiday portrait taken.
LOCATION:Water Street Studios
UID:e.1902.1080
SEQUENCE:3
DTSTAMP:20260420T214117Z
URL:https://business.bataviachamber.org/events/details/water-street-wonderland-holiday-showcase-event-2009-12-05-2009-1080
END:VEVENT

END:VCALENDAR
