BEGIN:VCALENDAR
VERSION:2.0
PRODID:-//ChamberMaster//Event Calendar 2.0//EN
METHOD:PUBLISH
X-PUBLISHED-TTL:P3D
REFRESH-INTERVAL:P3D
CALSCALE:GREGORIAN
BEGIN:VEVENT
DTSTART:20091127T060000Z
DTEND:20091223T060000Z
X-MICROSOFT-CDO-ALLDAYEVENT:FALSE
SUMMARY:Water Street Wonderland 2009
DESCRIPTION:Make Water Street Studios your holiday shopping destination this year.  Our unique assortment of creative items will make it easy for you to select perfect gifts for friends or family.  A truly one-of-a-kind shopping experience.  Local artists will be featuring handcrafted items for gift buying on any budget.  Water Street Wonderland is the ideal place to find hand printed holiday cards\, blown glass ornaments\, prints\, jewelry\, paintings and much more.
X-ALT-DESC;FMTTYPE=text/html:Make Water Street Studios your holiday shopping destination this year.  Our unique assortment of creative items will make it easy for you to select perfect gifts for friends or family.  A truly one-of-a-kind shopping experience.  Local artists will be featuring handcrafted items for gift buying on any budget.  Water Street Wonderland is the ideal place to find hand printed holiday cards\, blown glass ornaments\, prints\, jewelry\, paintings and much more.
LOCATION:Water Street Studios
UID:e.1902.1076
SEQUENCE:3
DTSTAMP:20260420T213327Z
URL:https://business.bataviachamber.org/events/details/water-street-wonderland-2009-11-27-2009-1076
END:VEVENT

END:VCALENDAR
