BEGIN:VCALENDAR
VERSION:2.0
PRODID:-//ChamberMaster//Event Calendar 2.0//EN
METHOD:PUBLISH
X-PUBLISHED-TTL:P3D
REFRESH-INTERVAL:P3D
CALSCALE:GREGORIAN
BEGIN:VEVENT
DTSTART:20110128T060000Z
DTEND:20110128T060000Z
X-MICROSOFT-CDO-ALLDAYEVENT:FALSE
SUMMARY:Water Street Studios Winter show opening 2011
DESCRIPTION:Water Street Studios Winter Show Opening\nJanuary 28\, 2011\n6-10p\nWine and Cheese reception\n\nWater Street Studios announces the 2011 Winter Show Opening to be held on January 28th. Out of the60 artists and 240 pieces submitted the jury panel which included our guest juror\, Anke Loh\, http://ankeloh.net/category/collections/\, 34 artists and awarded 6 honorable mentions for this show. \n\nA Best of Show artist will be awarded at the opening at 7 pm : \nA Free two week Solo Show in Water Street Studios 2nd floor gallery\, valued at $200.\n\nHonorable Mention artists will be awarded:\nAnnouncement on Water Street Studios website\, submitted artwork images on Anniversary Postcards\, and Honorable Mention Acknowledgment Name Tag in the gallery.\n\nHonorable Mentions:\nAlison Balcanoff\nDiana McNish\nTim Kowalczyk\nRita Grendze\nPeter Kenar\nJenna Goerringer\n\nPlease join us on January 28th 6p for the opening celebration of the Winter Show 2011.\n\nWinter Student (Middle & High School) Show Opening in the 2nd floor gallery\n\nFor more information on the 2011 Winter Show Openingor other gallery activities please feel free to contact gallery director\, Steven Lockwood\, at gallery@waterstreetstudios.com or you can contact our gallery directly during gallery hours Fri 5-9pm\, Sat 10-6p and Sun 12-4pm by calling 630-761 -9977\n\nwww.waterstreetstudios.com 160 S. Water Street Batavia\, IL 60510
X-ALT-DESC;FMTTYPE=text/html:Water Street Studios Winter Show Opening\nJanuary 28\, 2011\n6-10p\nWine and Cheese reception\n\nWater Street Studios announces the 2011 Winter Show Opening to be held on January 28th. Out of the60 artists and 240 pieces submitted the jury panel which included our guest juror\, Anke Loh\, http://ankeloh.net/category/collections/\, 34 artists and awarded 6 honorable mentions for this show. \n\nA Best of Show artist will be awarded at the opening at 7 pm : \nA Free two week Solo Show in Water Street Studios 2nd floor gallery\, valued at $200.\n\nHonorable Mention artists will be awarded:\nAnnouncement on Water Street Studios website\, submitted artwork images on Anniversary Postcards\, and Honorable Mention Acknowledgment Name Tag in the gallery.\n\nHonorable Mentions:\nAlison Balcanoff\nDiana McNish\nTim Kowalczyk\nRita Grendze\nPeter Kenar\nJenna Goerringer\n\nPlease join us on January 28th 6p for the opening celebration of the Winter Show 2011.\n\nWinter Student (Middle & High School) Show Opening in the 2nd floor gallery\n\nFor more information on the 2011 Winter Show Openingor other gallery activities please feel free to contact gallery director\, Steven Lockwood\, at gallery@waterstreetstudios.com or you can contact our gallery directly during gallery hours Fri 5-9pm\, Sat 10-6p and Sun 12-4pm by calling 630-761 -9977\n\nwww.waterstreetstudios.com 160 S. Water Street Batavia\, IL 60510
LOCATION:Water Street Studios
UID:e.1902.120
SEQUENCE:3
DTSTAMP:20260419T230545Z
URL:https://business.bataviachamber.org/events/details/water-street-studios-winter-show-opening-2011-01-28-2011-120
END:VEVENT

END:VCALENDAR
