BEGIN:VCALENDAR
VERSION:2.0
PRODID:-//ChamberMaster//Event Calendar 2.0//EN
METHOD:PUBLISH
X-PUBLISHED-TTL:P3D
REFRESH-INTERVAL:P3D
CALSCALE:GREGORIAN
BEGIN:VEVENT
DTSTART:20100115T060000Z
DTEND:20100115T060000Z
X-MICROSOFT-CDO-ALLDAYEVENT:FALSE
SUMMARY:Water Street Studios January 2010 Winter Art Show
DESCRIPTION:Water Street Studios announces the January 2010 Winter Art Show to be held on January 15\, 2010.  Participating artists will have their works judged by guest juror Steve Sherrel.  The show will begin at 6:00 pm and continue through 10:00 pm.  Awards to be presented will include Best of Show and Honorable Mentions followed by a wine and cheese reception.  \n\nArtists included in the Water Street Gallery’s Winter 2010 Show include:\nAlexander J. Boveri\, Anna Kenar\, Anne Ressman Zabinskii\, Barbara Barrows\, Bill McGrath\, Brian DeWolf\, Brian Jacobs\, Carol J. Christiansen Pawlak\, Caroline Baty-Barr\,Danica Antich\, Dawn Tutt\, Diana McNish\, Don Kates\, Fawn Clarke-Peterson\, Fran Stilwagner\, Fred W. Ullrich Jr.\, Fu-Chi Shih\, Greta Bell\, Jake Jarodsky\, Jim Jenkins\, Joe Gagnepain\, Joe Kraft\, KatherineKratzer\, Laura Lein-Svencner\, Leah Mitchell\, Lisa Dienst-Thomas\, Marjorie Brooks Colley\, Patty Davoust\, Penny Boedigheimer\, Peter Kenar\, Scott Hoffman\, Stephan Perrault\, Steve Clevenger\, Steven Lockwood\, Sylvia Zimmerman\, Thomas J. King\, Tim Kowalczyk\,and  William Worcester.
X-ALT-DESC;FMTTYPE=text/html:Water Street Studios announces the January 2010 Winter Art Show to be held on January 15\, 2010.  Participating artists will have their works judged by guest juror Steve Sherrel.  The show will begin at 6:00 pm and continue through 10:00 pm.  Awards to be presented will include Best of Show and Honorable Mentions followed by a wine and cheese reception.  \n\nArtists included in the Water Street Gallery’s Winter 2010 Show include:\nAlexander J. Boveri\, Anna Kenar\, Anne Ressman Zabinskii\, Barbara Barrows\, Bill McGrath\, Brian DeWolf\, Brian Jacobs\, Carol J. Christiansen Pawlak\, Caroline Baty-Barr\,Danica Antich\, Dawn Tutt\, Diana McNish\, Don Kates\, Fawn Clarke-Peterson\, Fran Stilwagner\, Fred W. Ullrich Jr.\, Fu-Chi Shih\, Greta Bell\, Jake Jarodsky\, Jim Jenkins\, Joe Gagnepain\, Joe Kraft\, KatherineKratzer\, Laura Lein-Svencner\, Leah Mitchell\, Lisa Dienst-Thomas\, Marjorie Brooks Colley\, Patty Davoust\, Penny Boedigheimer\, Peter Kenar\, Scott Hoffman\, Stephan Perrault\, Steve Clevenger\, Steven Lockwood\, Sylvia Zimmerman\, Thomas J. King\, Tim Kowalczyk\,and  William Worcester.\n
LOCATION:Water Street Studios
UID:e.1902.1082
SEQUENCE:3
DTSTAMP:20260420T195328Z
URL:https://business.bataviachamber.org/events/details/water-street-studios-january-2010-winter-art-show-01-15-2010-1082
END:VEVENT

END:VCALENDAR
