BEGIN:VCALENDAR
VERSION:2.0
PRODID:-//ChamberMaster//Event Calendar 2.0//EN
METHOD:PUBLISH
X-PUBLISHED-TTL:P3D
REFRESH-INTERVAL:P3D
CALSCALE:GREGORIAN
BEGIN:VEVENT
DTSTART:20100423T050000Z
DTEND:20100423T050000Z
X-MICROSOFT-CDO-ALLDAYEVENT:FALSE
SUMMARY:Water STreet Studios April Spring Show Opening 2010
DESCRIPTION:Water Street Studios (160 S. Water Street  Batavia\, IL)  invites you to join us on April 23\, 2010 from 6-10 pm for our Spring Show Opening.  After 82 artist’s submissions\, 40 artists and 56 artworks (not including jewelry) have been selected for the Water Street Studios 2010 Spring Show.  Of these selected artworks 8 Honorable Mentions and 1 Best in Show will be chosen during the Show Opening by Lee Sido.  The Show Opening will be accompanied by a wine and cheese reception as well as musical entertainment provided by Opus IV Strings\, featuring musical artists Rita Feuerborn\, violin\, Deborah Peot\, violin\, Dan Makula\, viola\, and Sheryl Nussbaum\, cello.   Water Street Studios is located at 160South Water Street in Batavia\, one block south of First Street and one block east of Rt. 31.\n	For more information on Water Street Studios gallery activities\, please visit our website at www.waterstreetstudios.com or view event updates and details on Face book.  For questions or comments please email us at waterstreetstudios@gmail.com or call our gallery at 630.761.9977.
X-ALT-DESC;FMTTYPE=text/html:Water Street Studios (160 S. Water Street  Batavia\, IL)  invites you to join us on April 23\, 2010 from 6-10 pm for our Spring Show Opening.  After 82 artist’s submissions\, 40 artists and 56 artworks (not including jewelry) have been selected for the Water Street Studios 2010 Spring Show.  Of these selected artworks 8 Honorable Mentions and 1 Best in Show will be chosen during the Show Opening by Lee Sido.  The Show Opening will be accompanied by a wine and cheese reception as well as musical entertainment provided by Opus IV Strings\, featuring musical artists Rita Feuerborn\, violin\, Deborah Peot\, violin\, Dan Makula\, viola\, and Sheryl Nussbaum\, cello.   Water Street Studios is located at 160South Water Street in Batavia\, one block south of First Street and one block east of Rt. 31.\n	For more information on Water Street Studios gallery activities\, please visit our website at www.waterstreetstudios.com or view event updates and details on Face book.  For questions or comments please email us at waterstreetstudios@gmail.com or call our gallery at 630.761.9977.\n
LOCATION:Water Street Studios
UID:e.1902.1153
SEQUENCE:3
DTSTAMP:20260420T144026Z
URL:https://business.bataviachamber.org/events/details/water-street-studios-april-spring-show-opening-2010-04-23-2010-1153
END:VEVENT

END:VCALENDAR
