BEGIN:VCALENDAR
VERSION:2.0
PRODID:-//ChamberMaster//Event Calendar 2.0//EN
METHOD:PUBLISH
X-PUBLISHED-TTL:P3D
REFRESH-INTERVAL:P3D
CALSCALE:GREGORIAN
BEGIN:VEVENT
DTSTART:20090419T050000Z
DTEND:20090419T050000Z
X-MICROSOFT-CDO-ALLDAYEVENT:FALSE
SUMMARY:Walk-n-Roll for Allie's Independence
DESCRIPTION:5k Walk-n-Roll along the scenic Fox River\, starting at Peg Bond Center in Batavia.  $20 adults/ $10kids.  Register at alliegagnon.org.  All proceeds to toward Spreading Sunshine for Allie\, a fundraising effort to buy a new motorized wheelchair for a Batavia 5th grader with cerebral palsey.
X-ALT-DESC;FMTTYPE=text/html:5k Walk-n-Roll along the scenic Fox River\, starting at Peg Bond Center in Batavia.  $20 adults/ $10kids.  Register at alliegagnon.org.  All proceeds to toward Spreading Sunshine for Allie\, a fundraising effort to buy a new motorized wheelchair for a Batavia 5th grader with cerebral palsey.
LOCATION:Peg Bond Center
UID:e.1902.890
SEQUENCE:3
DTSTAMP:20260421T125614Z
URL:https://business.bataviachamber.org/events/details/walk-n-roll-for-allie-s-independence-04-19-2009-890
END:VEVENT

END:VCALENDAR
