BEGIN:VCALENDAR
VERSION:2.0
PRODID:-//ChamberMaster//Event Calendar 2.0//EN
METHOD:PUBLISH
X-PUBLISHED-TTL:P3D
REFRESH-INTERVAL:P3D
CALSCALE:GREGORIAN
BEGIN:VEVENT
DTSTART:20231128T203000Z
DTEND:20231128T211500Z
X-MICROSOFT-CDO-ALLDAYEVENT:FALSE
SUMMARY:Volunteer Information Meeting
DESCRIPTION:Volunteer With Us & Make a Difference!\n\n\n\nAre you looking for an opportunity to make a positive impact in the lives of adults with disabilities? Valley Sheltered Workshop invites you to an informational meeting that could change lives\, including your own. \n\n\n\nDate: November 28th\n\nTime: 2:30 PM\n\nLocation: 325 Main Street\, Batavia\, IL (Valley Sheltered Workshop)\n\n\n\nValley Sheltered Workshop has been a beacon of support in the Batavia community for adults with disabilities since 1966\, and now we need YOUR help to continue our mission. Your involvement as a volunteer can bring joy\, purpose\, and new experiences to the individuals we serve.\n\n\n\nDuring the meeting\, you will:\n\n	Learn about our mission and what we stand for.\n	Discover the various ways you can contribute as a volunteer.\n	Hear heartwarming stories from some of our program participants.\n	Get answers to any questions you may have about volunteering with us.\n\nWe will also be providing beverages and light snacks to keep you refreshed and energized throughout the meeting. No experience is required\, and we welcome people of all backgrounds and abilities. Whether you can spare a few hours a week or a few days a month\, your time and dedication can make a significant impact.\n\n\n\nRSVP to Adrianne at Adrianne@Valleyshelteredworkshop.org\, call us at 630-879-2359\, or click the link below by November 26th to confirm your attendance at the informational meeting. We can't wait to meet you and discuss how you can become part of our Valley Sheltered Workshop community. Your support is invaluable\, and together\, we can create a more inclusive and compassionate society. Let's make a difference!\n\n\n\nhttps://www.signupgenius.com/go/10C0848AEAF29A5FCC52-46038224-volunteer\n\n\n\n*If you are unable to attend the meeting but still want to become a volunteer\, email Adrianne to set up a different time and we will schedule an alternative date & time.
X-ALT-DESC;FMTTYPE=text/html:&nbsp\;Volunteer With Us &amp\; Make a Difference!<br />\n<br />\nAre you looking for an opportunity to make a positive impact in the lives of adults with disabilities? Valley Sheltered Workshop invites you to an informational meeting that could change lives\, including your own.&nbsp\;<br />\n<br />\nDate: November 28th<br />\nTime: 2:30 PM<br />\nLocation: 325 Main Street\, Batavia\, IL (Valley Sheltered Workshop)<br />\n<br />\nValley Sheltered Workshop has been a beacon of support in the Batavia community for adults with disabilities since 1966\, and now we need YOUR help to continue our mission. Your involvement as a volunteer can bring joy\, purpose\, and new experiences to the individuals we serve.<br />\n<br />\nDuring the meeting\, you will:\n<ul>\n	<li>Learn about our mission and what we stand for.</li>\n	<li>Discover the various ways you can contribute as a volunteer.</li>\n	<li>Hear heartwarming stories from some of our program participants.</li>\n	<li>Get answers to any questions you may have about volunteering with us.</li>\n</ul>\nWe will also be providing beverages and light snacks to keep you refreshed and energized throughout the meeting. No experience is required\, and we welcome people of all backgrounds and abilities. Whether you can spare a few hours a week or a few days a month\, your time and dedication can make a significant impact.<br />\n<br />\nRSVP to Adrianne at <a href="mailto:Adrianne@ValleyShelteredWorkshop.org">Adrianne@Valleyshelteredworkshop.org</a>\, call us at 630-879-2359\, or click the link below by November 26th to confirm your attendance at the informational meeting. We can&#39\;t wait to meet you and discuss how you can become part of our Valley Sheltered Workshop community. Your support is invaluable\, and together\, we can create a more inclusive and compassionate society. Let&#39\;s make a difference!<br />\n<br />\n<a href="https://www.signupgenius.com/go/10C0848AEAF29A5FCC52-46038224-volunteer" target="_blank">https://www.signupgenius.com/go/10C0848AEAF29A5FCC52-46038224-volunteer</a><br />\n<br />\n*If you are unable to attend the meeting but still want to become a volunteer\, email Adrianne to set up a different time and we will schedule an alternative date &amp\; time.
LOCATION:Valley Sheltered Workshop 325 Main Street Batavia\, IL 60510
UID:e.1902.21196
SEQUENCE:3
DTSTAMP:20260419T183842Z
URL:https://business.bataviachamber.org/events/details/volunteer-information-meeting-21196
END:VEVENT

END:VCALENDAR
