BEGIN:VCALENDAR
VERSION:2.0
PRODID:-//ChamberMaster//Event Calendar 2.0//EN
METHOD:PUBLISH
X-PUBLISHED-TTL:P3D
REFRESH-INTERVAL:P3D
CALSCALE:GREGORIAN
BEGIN:VEVENT
DTSTART:20100828T050000Z
DTEND:20100828T050000Z
X-MICROSOFT-CDO-ALLDAYEVENT:FALSE
SUMMARY:VNA Hospice 5K Run/Walk to Remember
DESCRIPTION:This 5K raises funds for VNA  Hospice while  shining the spotlight on the significant resources hospice workers bring to families dealing with end-of-life issues.  Medals awarded to top finishers overall and by age group for this USATF certified event. Sign up online at www.vnafoxvalley.org/hospicewalk.html
X-ALT-DESC;FMTTYPE=text/html:This 5K raises funds for VNA  Hospice while  shining the spotlight on the significant resources hospice workers bring to families dealing with end-of-life issues.  Medals awarded to top finishers overall and by age group for this USATF certified event. Sign up online at www.vnafoxvalley.org/hospicewalk.html
LOCATION:Blackberry Farm
UID:e.1902.18
SEQUENCE:3
DTSTAMP:20260420T074138Z
URL:https://business.bataviachamber.org/events/details/vna-hospice-5k-run-walk-to-remember-08-28-2010-18
END:VEVENT

END:VCALENDAR
