BEGIN:VCALENDAR
VERSION:2.0
PRODID:-//ChamberMaster//Event Calendar 2.0//EN
METHOD:PUBLISH
X-PUBLISHED-TTL:P3D
REFRESH-INTERVAL:P3D
CALSCALE:GREGORIAN
BEGIN:VEVENT
DTSTART:20100501T050000Z
DTEND:20100501T050000Z
X-MICROSOFT-CDO-ALLDAYEVENT:FALSE
SUMMARY:VNA 2010 Gala
DESCRIPTION:SAVE THE DATE!\nVNA of Fox Valley 2010 Annual Gala\nDinner-Live Music-Raffles-Auction\nFunds raisedat this event will used to create an on-site dental office and on-site mental health counseling rooms at VNA Health Center.
X-ALT-DESC;FMTTYPE=text/html:SAVE THE DATE!\nVNA of Fox Valley 2010 Annual Gala\nDinner-Live Music-Raffles-Auction\nFunds raisedat this event will used to create an on-site dental office and on-site mental health counseling rooms at VNA Health Center.
LOCATION:Q Center
UID:e.1902.1081
SEQUENCE:3
DTSTAMP:20260420T125747Z
URL:https://business.bataviachamber.org/events/details/vna-2010-gala-05-01-2010-1081
END:VEVENT

END:VCALENDAR
