BEGIN:VCALENDAR
VERSION:2.0
PRODID:-//ChamberMaster//Event Calendar 2.0//EN
METHOD:PUBLISH
X-PUBLISHED-TTL:P3D
REFRESH-INTERVAL:P3D
CALSCALE:GREGORIAN
BEGIN:VEVENT
DTSTART:20201015T000000Z
DTEND:20201015T003000Z
X-MICROSOFT-CDO-ALLDAYEVENT:FALSE
SUMMARY:Virtual fashion show
DESCRIPTION:Join us weekly for a Facebook Live Fashion Show! Always entertaining and fast\, see what new arrivals will be featured.
X-ALT-DESC;FMTTYPE=text/html:<span style="color: rgb(68\, 68\, 68)\; font-family: &quot\;Open Sans&quot\;\, sans-serif\; font-size: 16px\; background-color: rgb(255\, 255\, 255)\;">Join us weekly for a Facebook Live Fashion Show! Always entertaining and fast\, see what new arrivals will be featured.</span>
LOCATION:
UID:e.1902.12388
SEQUENCE:3
DTSTAMP:20260422T095531Z
URL:https://business.bataviachamber.org/events/details/virtual-fashion-show-10-14-2020-12388
END:VEVENT

END:VCALENDAR
