BEGIN:VCALENDAR
VERSION:2.0
PRODID:-//ChamberMaster//Event Calendar 2.0//EN
METHOD:PUBLISH
X-PUBLISHED-TTL:P3D
REFRESH-INTERVAL:P3D
CALSCALE:GREGORIAN
BEGIN:VEVENT
DTSTART:20090430T050000Z
DTEND:20090430T050000Z
X-MICROSOFT-CDO-ALLDAYEVENT:FALSE
SUMMARY:Vintage Event ~ Hunter Valley\, Australia
DESCRIPTION:The Hunter Valley in Australia is a special place. From the moment you take your first step into theHunter Valley\, you can feel the earth draw away the layers of urban life. You find yourself breathing deeply\, slowly as the magic of nature takes you to a place where your body is relaxed\, your mindis clear and you have a feeling of total well being. Join us tonight as Gibby's own Mike Pacer\, fresh off the plane\, will lead us through the valley. He will share breathtaking photographs\, wind us through the wine trail and taste delicious wines as we go! Complimentary for Vintage Members $10 guestfee\, all other attendees.
X-ALT-DESC;FMTTYPE=text/html:The Hunter Valley in Australia is a special place. From the moment you take your first step into theHunter Valley\, you can feel the earth draw away the layers of urban life. You find yourself breathing deeply\, slowly as the magic of nature takes you to a place where your body is relaxed\, your mindis clear and you have a feeling of total well being. Join us tonight as Gibby's own Mike Pacer\, fresh off the plane\, will lead us through the valley. He will share breathtaking photographs\, wind us through the wine trail and taste delicious wines as we go! Complimentary for Vintage Members $10 guestfee\, all other attendees.
LOCATION:Gibby's Wine Den
UID:e.1902.921
SEQUENCE:3
DTSTAMP:20260421T130443Z
URL:https://business.bataviachamber.org/events/details/vintage-event-hunter-valley-australia-04-30-2009-921
END:VEVENT

END:VCALENDAR
