BEGIN:VCALENDAR
VERSION:2.0
PRODID:-//ChamberMaster//Event Calendar 2.0//EN
METHOD:PUBLISH
X-PUBLISHED-TTL:P3D
REFRESH-INTERVAL:P3D
CALSCALE:GREGORIAN
BEGIN:VEVENT
DTSTART:20090528T050000Z
DTEND:20090528T050000Z
X-MICROSOFT-CDO-ALLDAYEVENT:FALSE
SUMMARY:Vintage Event ~ Hendry Ranch\, with guest speaker\, Susan Ridl
DESCRIPTION:Hendry Ranch is tucked in a corner of Napa Valley immediately north of Carneros where days are warmand nights are cool. What grapes grow an prosper there today may not thrive as well in the future due to a continually changing climate. Join us tonight for a very special Vintage evening with Susan Ridley\, a partner that manages the winery sales and marketing efforts. Hear about the plots\, the wines that are an outstanding true reflection of the land and learn about George\, the son who transformed the fruit trees to vineyards and finally produced the wines you will enjoy tonight. Complimentaryfor Vintage Members / $10 guest fee for non-members.
X-ALT-DESC;FMTTYPE=text/html:Hendry Ranch is tucked in a corner of Napa Valley immediately north of Carneros where days are warmand nights are cool. What grapes grow an prosper there today may not thrive as well in the future due to a continually changing climate. Join us tonight for a very special Vintage evening with Susan Ridley\, a partner that manages the winery sales and marketing efforts. Hear about the plots\, the wines that are an outstanding true reflection of the land and learn about George\, the son who transformed the fruit trees to vineyards and finally produced the wines you will enjoy tonight. Complimentaryfor Vintage Members / $10 guest fee for non-members.
LOCATION:Gibby's Wine Den
UID:e.1902.949
SEQUENCE:3
DTSTAMP:20260421T105338Z
URL:https://business.bataviachamber.org/events/details/vintage-event-hendry-ranch-with-guest-speaker-susan-ridl-05-28-2009-949
END:VEVENT

END:VCALENDAR
