BEGIN:VCALENDAR
VERSION:2.0
PRODID:-//ChamberMaster//Event Calendar 2.0//EN
METHOD:PUBLISH
X-PUBLISHED-TTL:P3D
REFRESH-INTERVAL:P3D
CALSCALE:GREGORIAN
BEGIN:VEVENT
DTSTART:20090911T230000Z
DTEND:20090912T010000Z
X-MICROSOFT-CDO-ALLDAYEVENT:FALSE
SUMMARY:Vignette Home Decor Open House & Ribbon Cutting
DESCRIPTION:Join the festivities as we welcome Vignette Home Decor to Batavia. We will cut their ribbon at 7:00 p.m.
X-ALT-DESC;FMTTYPE=text/html:<P align=left>Join the festivities as we welcome&nbsp\;Vignette Home Decor&nbsp\;to Batavia.&nbsp\;We will cut their ribbon at 7:00 p.m.</P>
LOCATION:Vignette Home Decor\, Inc.
UID:e.1902.1729
SEQUENCE:3
DTSTAMP:20260421T031527Z
URL:https://business.bataviachamber.org/events/details/vignette-home-decor-open-house-ribbon-cutting-09-11-2009-1729
END:VEVENT

END:VCALENDAR
