BEGIN:VCALENDAR
VERSION:2.0
PRODID:-//ChamberMaster//Event Calendar 2.0//EN
METHOD:PUBLISH
X-PUBLISHED-TTL:P3D
REFRESH-INTERVAL:P3D
CALSCALE:GREGORIAN
BEGIN:VEVENT
DTSTART:20091105T060000Z
DTEND:20091105T060000Z
X-MICROSOFT-CDO-ALLDAYEVENT:FALSE
SUMMARY:VIA Economic Outlook for Manufacturers in 2010
DESCRIPTION:Hear Dr. William A. Strauss\, senior Economist and Economic Advisor for the Federal Reserve Bank of Chicago.
X-ALT-DESC;FMTTYPE=text/html:<P align=left>Hear Dr. William A. Strauss\, senior Economist and Economic Advisor for the Federal Reserve Bank of Chicago.</P>
LOCATION:Waubonsee Community College
UID:e.1902.1046
SEQUENCE:3
DTSTAMP:20260420T232235Z
URL:https://business.bataviachamber.org/events/details/via-economic-outlook-for-manufacturers-in-2010-11-05-2009-1046
END:VEVENT

END:VCALENDAR
