BEGIN:VCALENDAR
VERSION:2.0
PRODID:-//ChamberMaster//Event Calendar 2.0//EN
METHOD:PUBLISH
X-PUBLISHED-TTL:P3D
REFRESH-INTERVAL:P3D
CALSCALE:GREGORIAN
BEGIN:VEVENT
DTSTART:20091111T060000Z
DTEND:20091111T060000Z
X-MICROSOFT-CDO-ALLDAYEVENT:FALSE
SUMMARY:Veterans Day Tribute
DESCRIPTION:Veterans Day Tribute at which BHS choir and orchestra will perform to honor local Veterans and current members of the armed forces.
X-ALT-DESC;FMTTYPE=text/html:Veterans Day Tribute at which BHS choir and orchestra will perform to honor local Veterans and current members of the armed forces.
LOCATION:Heritage Woods of Batavia
UID:e.1902.1073
SEQUENCE:3
DTSTAMP:20260420T231744Z
URL:https://business.bataviachamber.org/events/details/veterans-day-tribute-11-11-2009-1073
END:VEVENT

END:VCALENDAR
