BEGIN:VCALENDAR
VERSION:2.0
PRODID:-//ChamberMaster//Event Calendar 2.0//EN
METHOD:PUBLISH
X-PUBLISHED-TTL:P3D
REFRESH-INTERVAL:P3D
CALSCALE:GREGORIAN
BEGIN:VEVENT
DTSTART:20200209T180000Z
DTEND:20200209T200000Z
X-MICROSOFT-CDO-ALLDAYEVENT:FALSE
SUMMARY:Valentine's Brunch
DESCRIPTION:Join us for a special Valentine Brunch at the beautiful Oscar Swan! The menu features chicken pot pie\, shrimp\, frittatas\, roasted potatoes\, bacon\, a cheese board with smoked salmon\, fresh fruit\, garden salad and a variety of breads. Our special dessert selection includes chocolate mousse cake\, strawberry shortcakes\, red cherry cobbler with whipped cream. \n\n\n\nMake your reservations early by calling (630) 232-0173 or email nina@oscarswan.com.
X-ALT-DESC;FMTTYPE=text/html:Join us for a special Valentine Brunch at the beautiful Oscar Swan! The menu features chicken pot pie\, shrimp\, frittatas\, roasted potatoes\, bacon\, a cheese board with smoked salmon\, fresh fruit\, garden salad and a variety of breads. Our special dessert selection includes chocolate mousse cake\, strawberry shortcakes\, red cherry cobbler with whipped cream.&nbsp\;<br />\n<br />\nMake your reservations early by calling (630) 232-0173 or email nina@oscarswan.com.
LOCATION:Oscar Swan Country Inn 1800 W. State Street Geneva\, IL 60134
UID:e.1902.12065
SEQUENCE:3
DTSTAMP:20260423T005747Z
URL:https://business.bataviachamber.org/events/details/valentine-s-brunch-12065
END:VEVENT

END:VCALENDAR
