BEGIN:VCALENDAR
VERSION:2.0
PRODID:-//ChamberMaster//Event Calendar 2.0//EN
METHOD:PUBLISH
X-PUBLISHED-TTL:P3D
REFRESH-INTERVAL:P3D
CALSCALE:GREGORIAN
BEGIN:VEVENT
DTSTART:20090807T050000Z
DTEND:20090807T050000Z
X-MICROSOFT-CDO-ALLDAYEVENT:FALSE
SUMMARY:Vacation Bible School
DESCRIPTION:Friday evenings\, August 7\, 14\, 21\, & 28 from 6-8:30 pm
X-ALT-DESC;FMTTYPE=text/html:Friday evenings\, August 7\, 14\, 21\, & 28 from 6-8:30 pm
LOCATION:New Beginnings Fellowship
UID:e.1902.974
SEQUENCE:3
DTSTAMP:20260425T003139Z
URL:https://business.bataviachamber.org/events/details/vacation-bible-school-08-07-2009-974
END:VEVENT

END:VCALENDAR
