BEGIN:VCALENDAR
VERSION:2.0
PRODID:-//ChamberMaster//Event Calendar 2.0//EN
METHOD:PUBLISH
X-PUBLISHED-TTL:P3D
REFRESH-INTERVAL:P3D
CALSCALE:GREGORIAN
BEGIN:VEVENT
DTSTART:20090803T050000Z
DTEND:20090807T050000Z
X-MICROSOFT-CDO-ALLDAYEVENT:FALSE
SUMMARY:Vacation Bible School
DESCRIPTION:Music\, crafts\, games\, Bible stories\, skits and more for kids ages three through those entering fifthgrade in the fall. All are welcome regardless of church affiliation or lack thereof. Admission is free\, but advance registration by July 27 is required.
X-ALT-DESC;FMTTYPE=text/html:Music\, crafts\, games\, Bible stories\, skits and more for kids ages three through those entering fifthgrade in the fall. All are welcome regardless of church affiliation or lack thereof. Admission is free\, but advance registration by July 27 is required.
LOCATION:Calvary Episcopal Church
UID:e.1902.957
SEQUENCE:3
DTSTAMP:20260421T051734Z
URL:https://business.bataviachamber.org/events/details/vacation-bible-school-08-03-2009-957
END:VEVENT

END:VCALENDAR
