BEGIN:VCALENDAR
VERSION:2.0
PRODID:-//ChamberMaster//Event Calendar 2.0//EN
METHOD:PUBLISH
X-PUBLISHED-TTL:P3D
REFRESH-INTERVAL:P3D
CALSCALE:GREGORIAN
BEGIN:VEVENT
DTSTART:20191212T210000Z
DTEND:20191212T233000Z
X-MICROSOFT-CDO-ALLDAYEVENT:FALSE
SUMMARY:USMCA Forum - Connecting Your Business to a Global Market
DESCRIPTION:The Naperville Area Chamber of Commerce presents:\n\nUSMCA Forum - Connecting Your Business to a Global Market\n\n Explore how your business can expand trade opportunities with the US-Mexico-Canada-Agreement.\n\nPresenters are\n\nReyna Torres Mendivil\, Mexican Consulate General in Chicago\n\nJohn Cruickshank\, Canadian Consulate General of Chicago\n\nCindy Tomei\, Illinois Manufacturers' Association\n\nJeff B. Davis\, Vice President\, Sales Administration & Marketing\, Phoenix Packaging & Closures\n\nRepresentative of the U.S. Chamber of Commerce\n\n\n\nLearn more here.
X-ALT-DESC;FMTTYPE=text/html:<p>The Naperville Area Chamber of Commerce presents:<br />\nUSMCA Forum - Connecting Your Business to a Global Market</p>\n\n<p>&nbsp\;Explore how your business can expand trade opportunities with the US-Mexico-Canada-Agreement.<br />\nPresenters are<br />\nReyna Torres Mendivil\, Mexican Consulate General in Chicago<br />\nJohn Cruickshank\, Canadian Consulate General of Chicago<br />\nCindy Tomei\, Illinois Manufacturers&#39\; Association<br />\nJeff B. Davis\, Vice President\, Sales Administration &amp\; Marketing\, Phoenix Packaging &amp\; Closures<br />\nRepresentative of the U.S. Chamber of Commerce<br />\n<br />\nLearn more <a href="https://files.constantcontact.com/d0b99ece001/ce5e42fa-c3a8-4552-b77b-ec3540fd9350.pdf" target="_blank">here</a>.&nbsp\;</p>\n
LOCATION:White Eagle Golf Club 3400 Club Drive Naperville\, IL 60564
UID:e.1902.11262
SEQUENCE:3
DTSTAMP:20260422T181442Z
URL:https://business.bataviachamber.org/events/details/usmca-forum-connecting-your-business-to-a-global-market-11262
END:VEVENT

END:VCALENDAR
