BEGIN:VCALENDAR
VERSION:2.0
PRODID:-//ChamberMaster//Event Calendar 2.0//EN
METHOD:PUBLISH
X-PUBLISHED-TTL:P3D
REFRESH-INTERVAL:P3D
CALSCALE:GREGORIAN
BEGIN:VEVENT
DTSTART:20090906T220000Z
DTEND:20090906T230000Z
X-MICROSOFT-CDO-ALLDAYEVENT:FALSE
SUMMARY:UrbanStyle Ribbon Cutting
DESCRIPTION:Join the festivities as we welcome UrbanStyle to Batavia. Mayor Schielke will cut their ribbon at 5:00 p.m.
X-ALT-DESC;FMTTYPE=text/html:<P align=left>Join the festivities as we welcome UrbanStyle to Batavia.&nbsp\;Mayor Schielke will cut their ribbon at 5:00 p.m.</P>
LOCATION:UrbanStyle
UID:e.1902.1728
SEQUENCE:3
DTSTAMP:20260421T031440Z
URL:https://business.bataviachamber.org/events/details/urbanstyle-ribbon-cutting-09-06-2009-1728
END:VEVENT

END:VCALENDAR
