BEGIN:VCALENDAR
VERSION:2.0
PRODID:-//ChamberMaster//Event Calendar 2.0//EN
METHOD:PUBLISH
X-PUBLISHED-TTL:P3D
REFRESH-INTERVAL:P3D
CALSCALE:GREGORIAN
BEGIN:VEVENT
DTSTART:20110524T050000Z
DTEND:20110526T050000Z
X-MICROSOFT-CDO-ALLDAYEVENT:FALSE
SUMMARY:United Way Fundraiser at Daddio's Diner
DESCRIPTION:Eat lunch or dinner at Daddio's Diner on these dates and mention you support Batavia United Way. They'll give 10% of sales back to Batavia United Way! Carryout is available as well - just remember tosay you support Batavia United Way. A delicious way to donate to a great community group!
X-ALT-DESC;FMTTYPE=text/html:Eat lunch or dinner at Daddio's Diner on these dates and mention you support Batavia United Way. They'll give 10% of sales back to Batavia United Way! Carryout is available as well - just remember tosay you support Batavia United Way. A delicious way to donate to a great community group!
LOCATION:Daddio's Diner
UID:e.1902.275
SEQUENCE:3
DTSTAMP:20260419T164314Z
URL:https://business.bataviachamber.org/events/details/united-way-fundraiser-at-daddio-s-diner-05-24-2011-275
END:VEVENT

END:VCALENDAR
