BEGIN:VCALENDAR
VERSION:2.0
PRODID:-//ChamberMaster//Event Calendar 2.0//EN
METHOD:PUBLISH
X-PUBLISHED-TTL:P3D
REFRESH-INTERVAL:P3D
CALSCALE:GREGORIAN
BEGIN:VEVENT
DTSTART:20110223T060000Z
DTEND:20110223T060000Z
X-MICROSOFT-CDO-ALLDAYEVENT:FALSE
SUMMARY:Understanding Emotional Intelligence in the Workplace
DESCRIPTION:Time Magazine has asserted that "Emotional Intelligence (EI) may be the best predictor of success inlife." Can an understanding of EI lead to greater success in motivating yourself and others in yourworkplace environment? Leaders or team members who are weak in EI may rely on intellectual analysisfor problem solving and miss important nuances. They may be confused about what drives them and surprised by the reactions of others. Discover how your feelings are spread to others and can drive performance up or down. Explore the ways understanding EI can help produce a happier and more productive workplace.
X-ALT-DESC;FMTTYPE=text/html:Time Magazine has asserted that "Emotional Intelligence (EI) may be the best predictor of success inlife." Can an understanding of EI lead to greater success in motivating yourself and others in yourworkplace environment? Leaders or team members who are weak in EI may rely on intellectual analysisfor problem solving and miss important nuances. They may be confused about what drives them and surprised by the reactions of others. Discover how your feelings are spread to others and can drive performance up or down. Explore the ways understanding EI can help produce a happier and more productive workplace. \n\n
LOCATION:Waubonsee Community College
UID:e.1902.161
SEQUENCE:3
DTSTAMP:20260419T224230Z
URL:https://business.bataviachamber.org/events/details/understanding-emotional-intelligence-in-the-workplace-02-23-2011-161
END:VEVENT

END:VCALENDAR
