BEGIN:VCALENDAR
VERSION:2.0
PRODID:-//ChamberMaster//Event Calendar 2.0//EN
METHOD:PUBLISH
X-PUBLISHED-TTL:P3D
REFRESH-INTERVAL:P3D
CALSCALE:GREGORIAN
BEGIN:VEVENT
DTSTART:20100514T050000Z
DTEND:20100514T050000Z
X-MICROSOFT-CDO-ALLDAYEVENT:FALSE
SUMMARY:UNCORKED! Spring Wine Tasting Event
DESCRIPTION:Friday\, May 14th from 5-8 pm join us for the third Flight in our UNCORKED Wine Tasting Series. Stopin for this great opportunity to taste over 25 wines. Perhaps there's a varietal or a region you'd like to explore. For a tasting fee of $10\, try a few or\, maybe even all of them!? Reservations are not required for this event. Take advantage of great discounts on wines featured this evening.
X-ALT-DESC;FMTTYPE=text/html:Friday\, May 14th from 5-8 pm join us for the third Flight in our UNCORKED Wine Tasting Series. Stopin for this great opportunity to taste over 25 wines. Perhaps there's a varietal or a region you'd like to explore. For a tasting fee of $10\, try a few or\, maybe even all of them!? Reservations are not required for this event. Take advantage of great discounts on wines featured this evening.\n
LOCATION:Gibby's Wine Den
UID:e.1902.1156
SEQUENCE:3
DTSTAMP:20260420T125726Z
URL:https://business.bataviachamber.org/events/details/uncorked-spring-wine-tasting-event-05-14-2010-1156
END:VEVENT

END:VCALENDAR
