BEGIN:VCALENDAR
VERSION:2.0
PRODID:-//ChamberMaster//Event Calendar 2.0//EN
METHOD:PUBLISH
X-PUBLISHED-TTL:P3D
REFRESH-INTERVAL:P3D
CALSCALE:GREGORIAN
BEGIN:VEVENT
DTSTART:20090515T050000Z
DTEND:20090515T050000Z
X-MICROSOFT-CDO-ALLDAYEVENT:FALSE
SUMMARY:Uncorked\, Flight III Spring Wine Tasting Series
DESCRIPTION:Looking for a new wine? Interested in expanding your palate or your wine collection?Maybe you're entertaining this spring or summer. Then attending one or all of our three Flights in Gibby's Spring Wine Tasting Series is a must for you! Each Flight will present the opportunity to taste at least 24 wines with the chance to interact one on one with the distributors and enjoy the search for the winesyou love. Each Flight will be complimentary for Gibby's Vintage Members. There will be a $10.00 feefor all other tasters. Incentive discount purchasing information will be available. We look forwardto offering an extensive variety of wines from various appellations and a wide price range. And make sure you complete a raffle ticket for a chance to win a wine tasting for ten!
X-ALT-DESC;FMTTYPE=text/html:Looking for a new wine? Interested in expanding your palate or your wine collection?Maybe you're entertaining this spring or summer. Then attending one or all of our three Flights in Gibby's Spring Wine Tasting Series is a must for you! Each Flight will present the opportunity to taste at least 24 wines with the chance to interact one on one with the distributors and enjoy the search for the winesyou love. Each Flight will be complimentary for Gibby's Vintage Members. There will be a $10.00 feefor all other tasters. Incentive discount purchasing information will be available. We look forwardto offering an extensive variety of wines from various appellations and a wide price range. And make sure you complete a raffle ticket for a chance to win a wine tasting for ten!
LOCATION:Gibby's Wine Den
UID:e.1902.947
SEQUENCE:3
DTSTAMP:20260421T103817Z
URL:https://business.bataviachamber.org/events/details/uncorked-flight-iii-spring-wine-tasting-series-05-15-2009-947
END:VEVENT

END:VCALENDAR
