BEGIN:VCALENDAR
VERSION:2.0
PRODID:-//ChamberMaster//Event Calendar 2.0//EN
METHOD:PUBLISH
X-PUBLISHED-TTL:P3D
REFRESH-INTERVAL:P3D
CALSCALE:GREGORIAN
BEGIN:VEVENT
DTSTART:20081114T060000Z
DTEND:20081114T060000Z
X-MICROSOFT-CDO-ALLDAYEVENT:FALSE
SUMMARY:Uncorked Flight II ~ Fall Wine Tasting Series
DESCRIPTION:Whether your getting ready for the holidays\, restocking your wine supply or just interested in tasting some new wines\, you will want to attend our Fall Wine Tasting!  You will have the opportunity totast over 25 different wines and have the space to talk with the distributors and enjoy the search for the wines you love!
X-ALT-DESC;FMTTYPE=text/html:Whether your getting ready for the holidays\, restocking your wine supply or just interested in tasting some new wines\, you will want to attend our Fall Wine Tasting!  You will have the opportunity totast over 25 different wines and have the space to talk with the distributors and enjoy the search for the wines you love!
LOCATION:Gibby's Wine Den
UID:e.1902.792
SEQUENCE:3
DTSTAMP:20260421T211259Z
URL:https://business.bataviachamber.org/events/details/uncorked-flight-ii-fall-wine-tasting-series-11-14-2008-792
END:VEVENT

END:VCALENDAR
