BEGIN:VCALENDAR
VERSION:2.0
PRODID:-//ChamberMaster//Event Calendar 2.0//EN
METHOD:PUBLISH
X-PUBLISHED-TTL:P3D
REFRESH-INTERVAL:P3D
CALSCALE:GREGORIAN
BEGIN:VEVENT
DTSTART:20090424T050000Z
DTEND:20090424T050000Z
X-MICROSOFT-CDO-ALLDAYEVENT:FALSE
SUMMARY:Uncorked Flight I: Spring Wine Tasting Series
DESCRIPTION:Looking for a new wine? Interested in expanding your palate or your wine collection? Maybe you're entertaining this spring or summer. Then attending one or all of our three Flights in Gibby's Spring Wine Tasting Series is a must for you! Each Flight will present the opportunity to taste at least 24wines with the chance to interact one on one with the distributors and enjoy the search for the wines you love. Each Flight will be complimentary for Gibby's Vintage Members. There will be a $10.00 fee for all other tasters. Incentive discount purchasing information will be available. We look forward to offering an extensive variety of wines from various appellations and a wide price range. And make sure you complete a raffle ticket at each Flight that you attend! Flight I: Friday\, April 24 (5-8) \nFlight II: Friday\, May 8 (5-8)\nFlight III:Friday\, May 15 (5-8)
X-ALT-DESC;FMTTYPE=text/html:Looking for a new wine? Interested in expanding your palate or your wine collection? Maybe you're entertaining this spring or summer. Then attending one or all of our three Flights in Gibby's Spring Wine Tasting Series is a must for you! Each Flight will present the opportunity to taste at least 24wines with the chance to interact one on one with the distributors and enjoy the search for the wines you love. Each Flight will be complimentary for Gibby's Vintage Members. There will be a $10.00 fee for all other tasters. Incentive discount purchasing information will be available. We look forward to offering an extensive variety of wines from various appellations and a wide price range. And make sure you complete a raffle ticket at each Flight that you attend! Flight I: Friday\, April 24 (5-8) \nFlight II: Friday\, May 8 (5-8)\nFlight III:Friday\, May 15 (5-8)
LOCATION:Gibby's Wine Den
UID:e.1902.920
SEQUENCE:3
DTSTAMP:20260421T125434Z
URL:https://business.bataviachamber.org/events/details/uncorked-flight-i-spring-wine-tasting-series-04-24-2009-920
END:VEVENT

END:VCALENDAR
