BEGIN:VCALENDAR
VERSION:2.0
PRODID:-//ChamberMaster//Event Calendar 2.0//EN
METHOD:PUBLISH
X-PUBLISHED-TTL:P3D
REFRESH-INTERVAL:P3D
CALSCALE:GREGORIAN
BEGIN:VEVENT
DTSTART:20090806T123000Z
DTEND:20090806T143000Z
X-MICROSOFT-CDO-ALLDAYEVENT:FALSE
SUMMARY:Twitter...Are You ''Tweeting'' Yet Should You Be (7:30am)
DESCRIPTION:Twitter has been on the cover of Time Magazine and its addresses are making their way to business cards. It is a technology to be reckoned with. If you are not using Twitter\, you owe it to yourself to find out if you need to!Felicia Slattery is a leading expert on Twitter with over 13\,000 followers. She is a communication consultant\, speaker\, and coach specializing in training busy professionals to succeed by communicating effectively with clients and prospects. She teaches teleseminars\, leads workshops\, and offers private coaching to individual clients on improving their communication skills in order to present their best image. Bring your laptop...log in...and learn Twitter as we go!You will learn the following at this very interactive seminar...How to get started on Twitter – if you're totally new I've got some pointers on the basics to get you rollingHow to choose a Twitter username that represents youHow to begin building your credibility tweet by tweetWhat to do to get followers (and why you want them!)How to decide who to followHow to tweet effectivelyWhere to fit it all in and find the time to tweetWhat information you need to put into your bioHow to reply\, "retweet\," direct message and use more features that will make you look like a Twitter pro in no timeA few Twitter "applications" that make tweeting even easier and more fun and profitableHow to fit what you have to say into just 140 charactersWhat to tweet about so you look like you know what you're doingThe lingo you need to know so you sound like you know what you're doingWhat types of things to avoid doing so you don't lose followersSome Twitter guidelines about how many people you can follow vs. how many follow you back (it took me weeks to figure this one out!)What to say and do to make money using TwitterHow to create and track topics and trends on Twitter quickly and easilyHow to know when people are talking about you and your key words so you can respond
X-ALT-DESC;FMTTYPE=text/html:<FONT color=#0000ff><STRONG><P class=MsoNormal style="MARGIN: 5pt 0in\; mso-layout-grid-align: none" align=left><FONT color=#0000ff><STRONG>Twitter has been on the cover of Time Magazine and its addresses are making their way to business cards. It is a technology to be reckoned with. If you are not using Twitter\, you owe it to yourself to find out if you need to!</STRONG></FONT></P><P class=MsoNormal style="MARGIN: 5pt 0in\; mso-layout-grid-align: none" align=left><FONT color=#0000ff><STRONG>Felicia Slattery is a leading expert on Twitter with over 13\,000 followers. She is a communication consultant\, speaker\, and coach specializing in training busy professionals to succeed by communicating effectively with clients and prospects. She teaches teleseminars\, leads workshops\, and offers private coaching to individual clients on improving their communication skills in order to present their best image. </STRONG></FONT></P><P class=MsoNormal style="MARGIN: 5pt 0in\; mso-layout-grid-align: none" align=center><FONT color=#0000ff><STRONG><U>Bring your laptop...log in...and learn Twitter as we go!</U></P><P class=MsoNormal style="MARGIN: 5pt 0in\; mso-layout-grid-align: none" align=left></STRONG></FONT></STRONG></FONT><FONT color=#800000 size=4><STRONG><EM>You will learn the following at this very interactive seminar...</EM></STRONG></FONT></P><UL><LI><DIV class=MsoNormal style="MARGIN: 5pt 0in\; mso-layout-grid-align: none" align=left><FONT color=#0000ff>How to get started on Twitter – if you're totally new I've got some pointers on the basics to get you rolling</FONT></DIV><LI><DIV class=MsoNormal style="MARGIN: 5pt 0in\; mso-layout-grid-align: none" align=left><FONT color=#0000ff>How to choose a Twitter username that represents you</FONT></DIV><LI><DIV class=MsoNormal style="MARGIN: 5pt 0in\; mso-layout-grid-align: none" align=left><FONT color=#0000ff>How to begin building your credibility tweet by tweet</FONT></DIV><LI><DIV class=MsoNormal style="MARGIN: 5pt 0in\; mso-layout-grid-align: none" align=left><FONT color=#0000ff>What to do to get followers (and why you want them!)</FONT></DIV><LI><DIV class=MsoNormal style="MARGIN: 5pt 0in\; mso-layout-grid-align: none" align=left><FONT color=#0000ff>How to decide who to follow</FONT></DIV><LI><DIV class=MsoNormal style="MARGIN: 5pt 0in\; mso-layout-grid-align: none" align=left><FONT color=#0000ff>How to tweet effectively</FONT></DIV><LI><DIV class=MsoNormal style="MARGIN: 5pt 0in\; mso-layout-grid-align: none" align=left><FONT color=#0000ff>Where to fit it all in and find the time to tweet</FONT></DIV><LI><DIV class=MsoNormal style="MARGIN: 5pt 0in\; mso-layout-grid-align: none" align=left><FONT color=#0000ff>What information you need to put into your bio</FONT></DIV><LI><DIV class=MsoNormal style="MARGIN: 5pt 0in\; mso-layout-grid-align: none" align=left><FONT color=#0000ff>How to reply\, "retweet\," direct message and use more features that will make you look like a Twitter pro in no time</FONT></DIV><LI><DIV class=MsoNormal style="MARGIN: 5pt 0in\; mso-layout-grid-align: none" align=left><FONT color=#0000ff>A few Twitter "applications" that make tweeting even easier and more fun and profitable</FONT></DIV><LI><DIV class=MsoNormal style="MARGIN: 5pt 0in\; mso-layout-grid-align: none" align=left><FONT color=#0000ff>How to fit what you have to say into just 140 characters</FONT></DIV><LI><DIV class=MsoNormal style="MARGIN: 5pt 0in\; mso-layout-grid-align: none" align=left><FONT color=#0000ff>What to tweet about so you look like you know what you're doing</FONT></DIV><LI><DIV class=MsoNormal style="MARGIN: 5pt 0in\; mso-layout-grid-align: none" align=left><FONT color=#0000ff>The lingo you need to know so you sound like you know what you're doing</FONT></DIV><LI><DIV class=MsoNormal style="MARGIN: 5pt 0in\; mso-layout-grid-align: none" align=left><FONT color=#0000ff>What types of things to avoid doing so you don't lose followers</FONT></DIV><LI><DIV class=MsoNormal style="MARGIN: 5pt 0in\; mso-layout-grid-align: none" align=left><FONT color=#0000ff>Some Twitter guidelines about how many people you can follow vs. how many follow you back (it took me weeks to figure this one out!)</FONT></DIV><LI><DIV class=MsoNormal style="MARGIN: 5pt 0in\; mso-layout-grid-align: none" align=left><FONT color=#0000ff>What to say and do to make money using Twitter</FONT></DIV><LI><DIV class=MsoNormal style="MARGIN: 5pt 0in\; mso-layout-grid-align: none" align=left><FONT color=#0000ff>How to create and track topics and trends on Twitter quickly and easily</FONT></DIV><LI><DIV class=MsoNormal style="MARGIN: 5pt 0in\; mso-layout-grid-align: none" align=left><FONT color=#0000ff>How to know when people are talking about you and your key words so you can respond</FONT></DIV></LI></UL><P class=MsoNormal style="MARGIN: 5pt 0in\; mso-layout-grid-align: none" align=left><FONT color=#0000ff></FONT>&nbsp\;</P>
LOCATION:Rotolo Middle School
UID:e.1902.1807
SEQUENCE:3
DTSTAMP:20260421T052143Z
URL:https://business.bataviachamber.org/events/details/twitter-are-you-tweeting-yet-should-you-be-7-30am-08-06-2009-1807
END:VEVENT

END:VCALENDAR
