BEGIN:VCALENDAR
VERSION:2.0
PRODID:-//ChamberMaster//Event Calendar 2.0//EN
METHOD:PUBLISH
X-PUBLISHED-TTL:P3D
REFRESH-INTERVAL:P3D
CALSCALE:GREGORIAN
BEGIN:VEVENT
DTSTART:20100528T050000Z
DTEND:20100528T050000Z
X-MICROSOFT-CDO-ALLDAYEVENT:FALSE
SUMMARY:Twilight Tasting & Fridays@5
DESCRIPTION:Meet at Gibby's Wine Bar tonight for a special "Twilight Tasting"!  Taste some new wines\, selected just for this evening\, while enjoying live entertainment of "The Mockturtlenecks".  There is no charge for this event - so grab your friends for a fun night at Gibby's!
X-ALT-DESC;FMTTYPE=text/html:Meet at Gibby's Wine Bar tonight for a special "Twilight Tasting"!  Taste some new wines\, selected just for this evening\, while enjoying live entertainment of "The Mockturtlenecks".  There is no charge for this event - so grab your friends for a fun night at Gibby's!\n \n\n
LOCATION:Gibby's Wine Den
UID:e.1902.1158
SEQUENCE:3
DTSTAMP:20260424T085904Z
URL:https://business.bataviachamber.org/events/details/twilight-tasting-fridays-5-05-28-2010-1158
END:VEVENT

END:VCALENDAR
