BEGIN:VCALENDAR
VERSION:2.0
PRODID:-//ChamberMaster//Event Calendar 2.0//EN
METHOD:PUBLISH
X-PUBLISHED-TTL:P3D
REFRESH-INTERVAL:P3D
CALSCALE:GREGORIAN
BEGIN:VEVENT
DTSTART:20090522T050000Z
DTEND:20090522T050000Z
X-MICROSOFT-CDO-ALLDAYEVENT:FALSE
SUMMARY:Twilight Tasting & Fridays@5
DESCRIPTION:Come to Gibby's tonight to taste some delicious wines ~ maybe you'll find a new favorite! Also\, thisevening's live entertainment is by the Mock Turtlenecks! You won't want to miss this great night atGibby's\, so grab your friends and meet us at the bar!
X-ALT-DESC;FMTTYPE=text/html:Come to Gibby's tonight to taste some delicious wines ~ maybe you'll find a new favorite! Also\, thisevening's live entertainment is by the Mock Turtlenecks! You won't want to miss this great night atGibby's\, so grab your friends and meet us at the bar!
LOCATION:Gibby's Wine Den
UID:e.1902.948
SEQUENCE:3
DTSTAMP:20260421T103957Z
URL:https://business.bataviachamber.org/events/details/twilight-tasting-fridays-5-05-22-2009-948
END:VEVENT

END:VCALENDAR
