BEGIN:VCALENDAR
VERSION:2.0
PRODID:-//ChamberMaster//Event Calendar 2.0//EN
METHOD:PUBLISH
X-PUBLISHED-TTL:P3D
REFRESH-INTERVAL:P3D
CALSCALE:GREGORIAN
BEGIN:VEVENT
DTSTART:20090213T060000Z
DTEND:20090213T060000Z
X-MICROSOFT-CDO-ALLDAYEVENT:FALSE
SUMMARY:Twilight Tasting / Fridays@5
DESCRIPTION:Enjoy a wine tasting this evening around the bar at Gibby's while listening to our Fridays@5 musicalentertainment by James Schlicher. Wine by the glass will also be available\, as well as small platesfrom Moveable Feast.
X-ALT-DESC;FMTTYPE=text/html:Enjoy a wine tasting this evening around the bar at Gibby's while listening to our Fridays@5 musicalentertainment by James Schlicher. Wine by the glass will also be available\, as well as small platesfrom Moveable Feast.
LOCATION:Gibby's Wine Den
UID:e.1902.856
SEQUENCE:3
DTSTAMP:20260421T162657Z
URL:https://business.bataviachamber.org/events/details/twilight-tasting-fridays-5-02-13-2009-856
END:VEVENT

END:VCALENDAR
